BEGIN:VCALENDAR
VERSION:2.0
PRODID:-//Russian Language Academy of Park Slope - ECPv6.15.3//NONSGML v1.0//EN
CALSCALE:GREGORIAN
METHOD:PUBLISH
X-WR-CALNAME:Russian Language Academy of Park Slope
X-ORIGINAL-URL:https://www.russianlanguageacademy.com
X-WR-CALDESC:Events for Russian Language Academy of Park Slope
REFRESH-INTERVAL;VALUE=DURATION:PT1H
X-Robots-Tag:noindex
X-PUBLISHED-TTL:PT1H
BEGIN:VTIMEZONE
TZID:America/New_York
BEGIN:DAYLIGHT
TZOFFSETFROM:-0500
TZOFFSETTO:-0400
TZNAME:EDT
DTSTART:20230312T070000
END:DAYLIGHT
BEGIN:STANDARD
TZOFFSETFROM:-0400
TZOFFSETTO:-0500
TZNAME:EST
DTSTART:20231105T060000
END:STANDARD
END:VTIMEZONE
BEGIN:VEVENT
DTSTART;VALUE=DATE:20230107
DTEND;VALUE=DATE:20230108
DTSTAMP:20260425T224553
CREATED:20220630T232210Z
LAST-MODIFIED:20220630T232210Z
UID:4620-1673049600-1673135999@www.russianlanguageacademy.com
SUMMARY:School in session
DESCRIPTION:
URL:https://www.russianlanguageacademy.com/calendar/school-in-session-100/
CATEGORIES:In Session
END:VEVENT
BEGIN:VEVENT
DTSTART;VALUE=DATE:20230114
DTEND;VALUE=DATE:20230115
DTSTAMP:20260425T224553
CREATED:20220630T232323Z
LAST-MODIFIED:20220630T232323Z
UID:4622-1673654400-1673740799@www.russianlanguageacademy.com
SUMMARY:School in session
DESCRIPTION:
URL:https://www.russianlanguageacademy.com/calendar/school-in-session-101/
CATEGORIES:In Session
END:VEVENT
BEGIN:VEVENT
DTSTART;VALUE=DATE:20230121
DTEND;VALUE=DATE:20230122
DTSTAMP:20260425T224553
CREATED:20220630T232523Z
LAST-MODIFIED:20220630T232523Z
UID:4624-1674259200-1674345599@www.russianlanguageacademy.com
SUMMARY:School in session
DESCRIPTION:
URL:https://www.russianlanguageacademy.com/calendar/school-in-session-102/
CATEGORIES:In Session
END:VEVENT
BEGIN:VEVENT
DTSTART;VALUE=DATE:20230128
DTEND;VALUE=DATE:20230129
DTSTAMP:20260425T224553
CREATED:20220630T232645Z
LAST-MODIFIED:20220630T232645Z
UID:4626-1674864000-1674950399@www.russianlanguageacademy.com
SUMMARY:School in session – Last day of fall semester
DESCRIPTION:
URL:https://www.russianlanguageacademy.com/calendar/school-in-session-last-day-of-fall-semester-3/
CATEGORIES:In Session
END:VEVENT
END:VCALENDAR