BEGIN:VCALENDAR
VERSION:2.0
PRODID:-//Russian Language Academy of Park Slope - ECPv6.15.3//NONSGML v1.0//EN
CALSCALE:GREGORIAN
METHOD:PUBLISH
X-WR-CALNAME:Russian Language Academy of Park Slope
X-ORIGINAL-URL:https://www.russianlanguageacademy.com
X-WR-CALDESC:Events for Russian Language Academy of Park Slope
REFRESH-INTERVAL;VALUE=DURATION:PT1H
X-Robots-Tag:noindex
X-PUBLISHED-TTL:PT1H
BEGIN:VTIMEZONE
TZID:America/New_York
BEGIN:DAYLIGHT
TZOFFSETFROM:-0500
TZOFFSETTO:-0400
TZNAME:EDT
DTSTART:20230312T070000
END:DAYLIGHT
BEGIN:STANDARD
TZOFFSETFROM:-0400
TZOFFSETTO:-0500
TZNAME:EST
DTSTART:20231105T060000
END:STANDARD
END:VTIMEZONE
BEGIN:VEVENT
DTSTART;VALUE=DATE:20231014
DTEND;VALUE=DATE:20231015
DTSTAMP:20260425T075128
CREATED:20230615T221208Z
LAST-MODIFIED:20230615T221208Z
UID:5241-1697241600-1697327999@www.russianlanguageacademy.com
SUMMARY:School in session
DESCRIPTION:
URL:https://www.russianlanguageacademy.com/calendar/school-in-session-117/
CATEGORIES:In Session
END:VEVENT
BEGIN:VEVENT
DTSTART;VALUE=DATE:20231021
DTEND;VALUE=DATE:20231022
DTSTAMP:20260425T075128
CREATED:20230615T221319Z
LAST-MODIFIED:20230615T221319Z
UID:5243-1697846400-1697932799@www.russianlanguageacademy.com
SUMMARY:School in session
DESCRIPTION:
URL:https://www.russianlanguageacademy.com/calendar/school-in-session-118/
CATEGORIES:In Session
END:VEVENT
BEGIN:VEVENT
DTSTART;VALUE=DATE:20231028
DTEND;VALUE=DATE:20231029
DTSTAMP:20260425T075128
CREATED:20230615T221410Z
LAST-MODIFIED:20230615T221410Z
UID:5245-1698451200-1698537599@www.russianlanguageacademy.com
SUMMARY:School in session
DESCRIPTION:
URL:https://www.russianlanguageacademy.com/calendar/school-in-session-119/
CATEGORIES:In Session
END:VEVENT
END:VCALENDAR