BEGIN:VCALENDAR
VERSION:2.0
PRODID:-//Russian Language Academy of Park Slope - ECPv6.15.3//NONSGML v1.0//EN
CALSCALE:GREGORIAN
METHOD:PUBLISH
X-WR-CALNAME:Russian Language Academy of Park Slope
X-ORIGINAL-URL:https://www.russianlanguageacademy.com
X-WR-CALDESC:Events for Russian Language Academy of Park Slope
REFRESH-INTERVAL;VALUE=DURATION:PT1H
X-Robots-Tag:noindex
X-PUBLISHED-TTL:PT1H
BEGIN:VTIMEZONE
TZID:America/New_York
BEGIN:DAYLIGHT
TZOFFSETFROM:-0500
TZOFFSETTO:-0400
TZNAME:EDT
DTSTART:20240310T070000
END:DAYLIGHT
BEGIN:STANDARD
TZOFFSETFROM:-0400
TZOFFSETTO:-0500
TZNAME:EST
DTSTART:20241103T060000
END:STANDARD
END:VTIMEZONE
BEGIN:VEVENT
DTSTART;VALUE=DATE:20241207
DTEND;VALUE=DATE:20241208
DTSTAMP:20260424T101117
CREATED:20240621T060724Z
LAST-MODIFIED:20240621T060724Z
UID:5887-1733529600-1733615999@www.russianlanguageacademy.com
SUMMARY:School in session
DESCRIPTION:
URL:https://www.russianlanguageacademy.com/calendar/school-in-session-159/
CATEGORIES:In Session
END:VEVENT
BEGIN:VEVENT
DTSTART;VALUE=DATE:20241214
DTEND;VALUE=DATE:20241215
DTSTAMP:20260424T101117
CREATED:20240621T060644Z
LAST-MODIFIED:20240621T060644Z
UID:5886-1734134400-1734220799@www.russianlanguageacademy.com
SUMMARY:School in session
DESCRIPTION:
URL:https://www.russianlanguageacademy.com/calendar/school-in-session-158/
CATEGORIES:In Session
END:VEVENT
END:VCALENDAR