BEGIN:VCALENDAR
VERSION:2.0
PRODID:-//Russian Language Academy of Park Slope - ECPv6.15.3//NONSGML v1.0//EN
CALSCALE:GREGORIAN
METHOD:PUBLISH
X-ORIGINAL-URL:https://www.russianlanguageacademy.com
X-WR-CALDESC:Events for Russian Language Academy of Park Slope
REFRESH-INTERVAL;VALUE=DURATION:PT1H
X-Robots-Tag:noindex
X-PUBLISHED-TTL:PT1H
BEGIN:VTIMEZONE
TZID:America/New_York
BEGIN:DAYLIGHT
TZOFFSETFROM:-0500
TZOFFSETTO:-0400
TZNAME:EDT
DTSTART:20250309T070000
END:DAYLIGHT
BEGIN:STANDARD
TZOFFSETFROM:-0400
TZOFFSETTO:-0500
TZNAME:EST
DTSTART:20251102T060000
END:STANDARD
END:VTIMEZONE
BEGIN:VEVENT
DTSTART;VALUE=DATE:20251004
DTEND;VALUE=DATE:20251005
DTSTAMP:20260423T193642
CREATED:20250613T220407Z
LAST-MODIFIED:20250613T220407Z
UID:6449-1759536000-1759622399@www.russianlanguageacademy.com
SUMMARY:School in session
DESCRIPTION:
URL:https://www.russianlanguageacademy.com/calendar/school-in-session-169/
CATEGORIES:In Session
END:VEVENT
BEGIN:VEVENT
DTSTART;VALUE=DATE:20251018
DTEND;VALUE=DATE:20251019
DTSTAMP:20260423T193642
CREATED:20250613T221447Z
LAST-MODIFIED:20250613T221447Z
UID:6453-1760745600-1760831999@www.russianlanguageacademy.com
SUMMARY:School in session
DESCRIPTION:
URL:https://www.russianlanguageacademy.com/calendar/school-in-session-170/
CATEGORIES:In Session
END:VEVENT
BEGIN:VEVENT
DTSTART;VALUE=DATE:20251025
DTEND;VALUE=DATE:20251026
DTSTAMP:20260423T193642
CREATED:20250613T224608Z
LAST-MODIFIED:20250613T224608Z
UID:6455-1761350400-1761436799@www.russianlanguageacademy.com
SUMMARY:School in session
DESCRIPTION:
URL:https://www.russianlanguageacademy.com/calendar/school-in-session-171/
CATEGORIES:In Session
END:VEVENT
END:VCALENDAR