BEGIN:VCALENDAR
VERSION:2.0
PRODID:-//Russian Language Academy of Park Slope - ECPv6.15.3//NONSGML v1.0//EN
CALSCALE:GREGORIAN
METHOD:PUBLISH
X-WR-CALNAME:Russian Language Academy of Park Slope
X-ORIGINAL-URL:https://www.russianlanguageacademy.com
X-WR-CALDESC:Events for Russian Language Academy of Park Slope
REFRESH-INTERVAL;VALUE=DURATION:PT1H
X-Robots-Tag:noindex
X-PUBLISHED-TTL:PT1H
BEGIN:VTIMEZONE
TZID:America/New_York
BEGIN:DAYLIGHT
TZOFFSETFROM:-0500
TZOFFSETTO:-0400
TZNAME:EDT
DTSTART:20260308T070000
END:DAYLIGHT
BEGIN:STANDARD
TZOFFSETFROM:-0400
TZOFFSETTO:-0500
TZNAME:EST
DTSTART:20261101T060000
END:STANDARD
END:VTIMEZONE
BEGIN:VEVENT
DTSTART;VALUE=DATE:20260110
DTEND;VALUE=DATE:20260111
DTSTAMP:20260423T153041
CREATED:20250613T225747Z
LAST-MODIFIED:20250613T225747Z
UID:6478-1768003200-1768089599@www.russianlanguageacademy.com
SUMMARY:School in session
DESCRIPTION:
URL:https://www.russianlanguageacademy.com/calendar/school-in-session-180/
CATEGORIES:In Session
END:VEVENT
BEGIN:VEVENT
DTSTART;VALUE=DATE:20260117
DTEND;VALUE=DATE:20260118
DTSTAMP:20260423T153041
CREATED:20250613T225709Z
LAST-MODIFIED:20251211T044654Z
UID:6476-1768608000-1768694399@www.russianlanguageacademy.com
SUMMARY:School in session
DESCRIPTION:
URL:https://www.russianlanguageacademy.com/calendar/school-in-session-179/
CATEGORIES:In Session
END:VEVENT
BEGIN:VEVENT
DTSTART;VALUE=DATE:20260124
DTEND;VALUE=DATE:20260125
DTSTAMP:20260423T153041
CREATED:20250613T230156Z
LAST-MODIFIED:20250613T230156Z
UID:6482-1769212800-1769299199@www.russianlanguageacademy.com
SUMMARY:School in session – Last day of fall semester
DESCRIPTION:
URL:https://www.russianlanguageacademy.com/calendar/school-in-session-last-day-of-fall-semester-6/
CATEGORIES:In Session
END:VEVENT
BEGIN:VEVENT
DTSTART;VALUE=DATE:20260131
DTEND;VALUE=DATE:20260201
DTSTAMP:20260423T153041
CREATED:20251211T045138Z
LAST-MODIFIED:20251211T045138Z
UID:6708-1769817600-1769903999@www.russianlanguageacademy.com
SUMMARY:School in session - First day of spring semester
DESCRIPTION:
URL:https://www.russianlanguageacademy.com/calendar/school-in-session-first-day-of-spring-semester-6/
CATEGORIES:In Session
END:VEVENT
END:VCALENDAR